BEGIN:VCALENDAR
VERSION:2.0
PRODID:-//wp-events-plugin.com//7.2.3.1//EN
TZID:America/Phoenix
X-WR-TIMEZONE:America/Phoenix
BEGIN:VEVENT
UID:73@pcdemclub.org
DTSTART;TZID=America/Phoenix:20250313T113000
DTEND;TZID=America/Phoenix:20250313T133000
DTSTAMP:20250224T221739Z
URL:https://pcdemclub.org/events/march-democratic-club-ladies-luncheion/
SUMMARY:March Democratic  Club Ladies Luncheon
DESCRIPTION:The ability to book is available again.
CATEGORIES:Social
LOCATION:Copper and Sage\, 1975 North Globe Drive\, Goodyear\, AZ\, 85395\,
  United States
X-APPLE-STRUCTURED-LOCATION;VALUE=URI;X-ADDRESS=1975 North Globe Drive\, Go
 odyear\, AZ\, 85395\, United States;X-APPLE-RADIUS=100;X-TITLE=Copper and 
 Sage:geo:0,0
END:VEVENT
BEGIN:VTIMEZONE
TZID:America/Phoenix
X-LIC-LOCATION:America/Phoenix
BEGIN:STANDARD
DTSTART:20240313T113000
TZOFFSETFROM:-0700
TZOFFSETTO:-0700
TZNAME:MST
END:STANDARD
END:VTIMEZONE
END:VCALENDAR