BEGIN:VCALENDAR
VERSION:2.0
PRODID:-//wp-events-plugin.com//7.2.3.1//EN
TZID:America/Phoenix
X-WR-TIMEZONE:America/Phoenix
BEGIN:VEVENT
UID:415@pcdemclub.org
DTSTART;TZID=America/Phoenix:20260311T081500
DTEND;TZID=America/Phoenix:20260311T093000
DTSTAMP:20251116T163408Z
URL:https://pcdemclub.org/events/mens-breakfast-14/
SUMMARY:March Men's Breakfast
DESCRIPTION:You cannot sign up on the website for this event.  Please cont
 act Josh Rabinowitz via email if you have any questions.\n\n joshjudo4@gma
 il.com
LOCATION:Eagles Nest Restaurant\, 14800 Robson Circle North\, GoodYear\, AZ
 \, 85395\, United States
X-APPLE-STRUCTURED-LOCATION;VALUE=URI;X-ADDRESS=14800 Robson Circle North\,
  GoodYear\, AZ\, 85395\, United States;X-APPLE-RADIUS=100;X-TITLE=Eagles N
 est Restaurant:geo:0,0
END:VEVENT
BEGIN:VTIMEZONE
TZID:America/Phoenix
X-LIC-LOCATION:America/Phoenix
BEGIN:STANDARD
DTSTART:20250311T081500
TZOFFSETFROM:-0700
TZOFFSETTO:-0700
TZNAME:MST
END:STANDARD
END:VTIMEZONE
END:VCALENDAR